BEGIN:VCALENDAR
VERSION:2.0
PRODID:-//Worthing Camera Club - ECPv6.15.18//NONSGML v1.0//EN
CALSCALE:GREGORIAN
METHOD:PUBLISH
X-ORIGINAL-URL:https://www.worthingcameraclub.org.uk
X-WR-CALDESC:Events for Worthing Camera Club
REFRESH-INTERVAL;VALUE=DURATION:PT1H
X-Robots-Tag:noindex
X-PUBLISHED-TTL:PT1H
BEGIN:VTIMEZONE
TZID:Europe/London
BEGIN:DAYLIGHT
TZOFFSETFROM:+0000
TZOFFSETTO:+0100
TZNAME:BST
DTSTART:20250330T010000
END:DAYLIGHT
BEGIN:STANDARD
TZOFFSETFROM:+0100
TZOFFSETTO:+0000
TZNAME:GMT
DTSTART:20251026T010000
END:STANDARD
BEGIN:DAYLIGHT
TZOFFSETFROM:+0000
TZOFFSETTO:+0100
TZNAME:BST
DTSTART:20260329T010000
END:DAYLIGHT
BEGIN:STANDARD
TZOFFSETFROM:+0100
TZOFFSETTO:+0000
TZNAME:GMT
DTSTART:20261025T010000
END:STANDARD
BEGIN:DAYLIGHT
TZOFFSETFROM:+0000
TZOFFSETTO:+0100
TZNAME:BST
DTSTART:20270328T010000
END:DAYLIGHT
BEGIN:STANDARD
TZOFFSETFROM:+0100
TZOFFSETTO:+0000
TZNAME:GMT
DTSTART:20271031T010000
END:STANDARD
END:VTIMEZONE
BEGIN:VEVENT
DTSTART;TZID=Europe/London:20260120T193000
DTEND;TZID=Europe/London:20260120T220000
DTSTAMP:20260420T112455
CREATED:20250530T130503Z
LAST-MODIFIED:20250830T134250Z
UID:9201-1768937400-1768946400@www.worthingcameraclub.org.uk
SUMMARY:Competition: PDI Merit #3 (Judge: Carol Walker)
DESCRIPTION:ZOOM ONLY. DO NOT GO TO THE HALL \nThird and final PDI Merit Competition of the season. \nMembers compete as Beginners\, Intermediate\, or Advanced photographers. Judges take this into account when awarding scores to the images. Separate Merit Tables are published for each of these three classes. \nAn image can only be used in one Merit Competition\, and can not be used in both a Merit and a Set Subject Competition. \nSee Competition Rules for more information.
URL:https://www.worthingcameraclub.org.uk/event/pdi-merit-3-open/
LOCATION:Zoom\, United Kingdom
CATEGORIES:Competition
END:VEVENT
END:VCALENDAR