BEGIN:VCALENDAR
VERSION:2.0
PRODID:-//Worthing Camera Club - ECPv6.15.18//NONSGML v1.0//EN
CALSCALE:GREGORIAN
METHOD:PUBLISH
X-WR-CALNAME:Worthing Camera Club
X-ORIGINAL-URL:https://www.worthingcameraclub.org.uk
X-WR-CALDESC:Events for Worthing Camera Club
REFRESH-INTERVAL;VALUE=DURATION:PT1H
X-Robots-Tag:noindex
X-PUBLISHED-TTL:PT1H
BEGIN:VTIMEZONE
TZID:Europe/London
BEGIN:DAYLIGHT
TZOFFSETFROM:+0000
TZOFFSETTO:+0100
TZNAME:BST
DTSTART:20250330T010000
END:DAYLIGHT
BEGIN:STANDARD
TZOFFSETFROM:+0100
TZOFFSETTO:+0000
TZNAME:GMT
DTSTART:20251026T010000
END:STANDARD
BEGIN:DAYLIGHT
TZOFFSETFROM:+0000
TZOFFSETTO:+0100
TZNAME:BST
DTSTART:20260329T010000
END:DAYLIGHT
BEGIN:STANDARD
TZOFFSETFROM:+0100
TZOFFSETTO:+0000
TZNAME:GMT
DTSTART:20261025T010000
END:STANDARD
BEGIN:DAYLIGHT
TZOFFSETFROM:+0000
TZOFFSETTO:+0100
TZNAME:BST
DTSTART:20270328T010000
END:DAYLIGHT
BEGIN:STANDARD
TZOFFSETFROM:+0100
TZOFFSETTO:+0000
TZNAME:GMT
DTSTART:20271031T010000
END:STANDARD
END:VTIMEZONE
BEGIN:VEVENT
DTSTART;TZID=Europe/London:20260411T100000
DTEND;TZID=Europe/London:20260411T123000
DTSTAMP:20260422T114454
CREATED:20260223T114435Z
LAST-MODIFIED:20260223T114435Z
UID:10134-1775901600-1775910600@www.worthingcameraclub.org.uk
SUMMARY:Outing: East Preston
DESCRIPTION:An outing to East Preston to capture the historic village\, sea and landscape. \n  \nNon-members: You are welcome to join us. Please complete the contact form and we will send you more details.
URL:https://www.worthingcameraclub.org.uk/event/outing-east-preston/
LOCATION:East Preston\, Sea Road\, East Preston\, BN16 1NP\, United Kingdom
CATEGORIES:Photowalk
ATTACH;FMTTYPE=image/jpeg:https://www.worthingcameraclub.org.uk/wp-content/uploads/2023/08/East-Preston-or-Kingston-Jubilee-Clock.jpg
END:VEVENT
END:VCALENDAR