BEGIN:VCALENDAR
VERSION:2.0
PRODID:-//Worthing Camera Club - ECPv6.15.18//NONSGML v1.0//EN
CALSCALE:GREGORIAN
METHOD:PUBLISH
X-WR-CALNAME:Worthing Camera Club
X-ORIGINAL-URL:https://www.worthingcameraclub.org.uk
X-WR-CALDESC:Events for Worthing Camera Club
REFRESH-INTERVAL;VALUE=DURATION:PT1H
X-Robots-Tag:noindex
X-PUBLISHED-TTL:PT1H
BEGIN:VTIMEZONE
TZID:Europe/London
BEGIN:DAYLIGHT
TZOFFSETFROM:+0000
TZOFFSETTO:+0100
TZNAME:BST
DTSTART:20250330T010000
END:DAYLIGHT
BEGIN:STANDARD
TZOFFSETFROM:+0100
TZOFFSETTO:+0000
TZNAME:GMT
DTSTART:20251026T010000
END:STANDARD
BEGIN:DAYLIGHT
TZOFFSETFROM:+0000
TZOFFSETTO:+0100
TZNAME:BST
DTSTART:20260329T010000
END:DAYLIGHT
BEGIN:STANDARD
TZOFFSETFROM:+0100
TZOFFSETTO:+0000
TZNAME:GMT
DTSTART:20261025T010000
END:STANDARD
BEGIN:DAYLIGHT
TZOFFSETFROM:+0000
TZOFFSETTO:+0100
TZNAME:BST
DTSTART:20270328T010000
END:DAYLIGHT
BEGIN:STANDARD
TZOFFSETFROM:+0100
TZOFFSETTO:+0000
TZNAME:GMT
DTSTART:20271031T010000
END:STANDARD
END:VTIMEZONE
BEGIN:VEVENT
DTSTART;TZID=Europe/London:20260320T093000
DTEND;TZID=Europe/London:20260320T150000
DTSTAMP:20260420T190355
CREATED:20250830T150431Z
LAST-MODIFIED:20250831T121221Z
UID:9504-1773999000-1774018800@www.worthingcameraclub.org.uk
SUMMARY:Outing: Hastings
DESCRIPTION:Train to Brighton and then change for Hastings (if taking a car\, the journey is about 1.5 hours. Use “Rock a Nore” Car park). \nStart at “The Stade” and then go down to the fishing fleet on the shore. Return to Stade and then along to see the RNLI Boat Station\, the mini theme park and boating lake. Cross over to George Street. We will follow a short route around Hastings. \nThere is an option to take the West Hill Cliff Railway up from George Street and then go and look at the Castle ruins. Note: they really are very ruined! \nNon-members: You are welcome to join us on this photowalk. Just complete a Contact form and we will send you more information. \nNote: The duration of this event (9:30 – 3pm) includes the train journey.
URL:https://www.worthingcameraclub.org.uk/event/outing-hastings-2/
LOCATION:Hastings\, Rock-a-Nore Road\, Hastings\, TN34 3FJ\, United Kingdom
CATEGORIES:Photowalk
ATTACH;FMTTYPE=image/jpeg:https://www.worthingcameraclub.org.uk/wp-content/uploads/2025/07/Hastings-Montage-scaled.jpg
END:VEVENT
END:VCALENDAR