BEGIN:VCALENDAR
VERSION:2.0
PRODID:-//Worthing Camera Club - ECPv6.15.18//NONSGML v1.0//EN
CALSCALE:GREGORIAN
METHOD:PUBLISH
X-ORIGINAL-URL:https://www.worthingcameraclub.org.uk
X-WR-CALDESC:Events for Worthing Camera Club
REFRESH-INTERVAL;VALUE=DURATION:PT1H
X-Robots-Tag:noindex
X-PUBLISHED-TTL:PT1H
BEGIN:VTIMEZONE
TZID:Europe/London
BEGIN:DAYLIGHT
TZOFFSETFROM:+0000
TZOFFSETTO:+0100
TZNAME:BST
DTSTART:20250330T010000
END:DAYLIGHT
BEGIN:STANDARD
TZOFFSETFROM:+0100
TZOFFSETTO:+0000
TZNAME:GMT
DTSTART:20251026T010000
END:STANDARD
BEGIN:DAYLIGHT
TZOFFSETFROM:+0000
TZOFFSETTO:+0100
TZNAME:BST
DTSTART:20260329T010000
END:DAYLIGHT
BEGIN:STANDARD
TZOFFSETFROM:+0100
TZOFFSETTO:+0000
TZNAME:GMT
DTSTART:20261025T010000
END:STANDARD
BEGIN:DAYLIGHT
TZOFFSETFROM:+0000
TZOFFSETTO:+0100
TZNAME:BST
DTSTART:20270328T010000
END:DAYLIGHT
BEGIN:STANDARD
TZOFFSETFROM:+0100
TZOFFSETTO:+0000
TZNAME:GMT
DTSTART:20271031T010000
END:STANDARD
END:VTIMEZONE
BEGIN:VEVENT
DTSTART;TZID=Europe/London:20260303T193000
DTEND;TZID=Europe/London:20260303T220000
DTSTAMP:20260422T103703
CREATED:20250530T130557Z
LAST-MODIFIED:20250830T143458Z
UID:9207-1772566200-1772575200@www.worthingcameraclub.org.uk
SUMMARY:Competition: Print Panel (Judge: Cherry Larcombe)
DESCRIPTION:Our Annual Panel print competition. \nThis is an ‘Open’ competition so there is no restriction on subject matter. Entries in a panel must relate to a theme of the entrant’s choosing and the title of the panel should reflect this theme. Each member may enter a maximum of three (3) Print Panels in the Competition. \nFor a full set of the rules click here.
URL:https://www.worthingcameraclub.org.uk/event/print-triptych-panel-competition/
LOCATION:Heene Community Centre\, 122 Heene Road\, Worthing\, West Sussex\, BN11 4PL\, United Kingdom
CATEGORIES:Competition
ATTACH;FMTTYPE=image/jpeg:https://www.worthingcameraclub.org.uk/wp-content/uploads/2025/03/2241_The-Craftsmens-Tools_Barry-Chidlow.jpg
END:VEVENT
END:VCALENDAR